BEGIN:VCALENDAR
VERSION:2.0
PRODID:-//hacksw/handcal//NONSGML v1.0//EN
BEGIN:VEVENT
SUMMARY:LPL53 CONTRE ESL53
UID:9829e84f-475a-4e23-af05-066b62e6c9d3
DTSTART:20260429T183000Z
DTEND:20260429T214500Z
LOCATION:Localisation 10A RUE DU STADE 53950 
CATEGORIES:Sportif
STATUS:
DESCRIPTION:<p style="text-align:center;"><strong>JOURNEE
 5 </strong></p>
 
 <p style="text-align:center;"><strong>LOUVERNE
 CONTRE ESL 53</strong></p>
 
 <p style="text-align:center;">La
 composition de l'equipe sera faite en fonction des
 disponibilites </p>
 
 <p style="text-align:center;">Un covoiturage
 sera mis en place (parking de Courtepaille)</p>
URL;VALUE=URI:https://www.etoilesportivelavalloise.com/evenements/2026/04/29/lpl53-contre-esl53-2427121
END:VEVENT
END:VCALENDAR
