BEGIN:VCALENDAR
VERSION:2.0
PRODID:-//hacksw/handcal//NONSGML v1.0//EN
BEGIN:VEVENT
SUMMARY:Reunion Conseil d'administration
UID:05dff314-6bd1-48b8-b11b-839110eb1814
DTSTART:20260506T180000Z
DTEND:20260506T200000Z
LOCATION:Localisation   
CATEGORIES:Administratif
STATUS:
DESCRIPTION:Reunion pour echanger sur le maintien ou non des
 prestations d'entraineurs la saison prochaine.
URL;VALUE=URI:https://www.etoilesportivelavalloise.com/evenements/2026/05/06/reunion-conseil-dadministration-2442215
END:VEVENT
END:VCALENDAR
